BEGIN:VCALENDAR
VERSION:2.0
PRODID:-//IP.Board Calendar 4.4.10//EN
METHOD:PUBLISH
CALSCALE:GREGORIAN
X-WR-CALNAME:Kalendarz forum
BEGIN:VTIMEZONE
TZID:Europe/London
TZURL:http://tzurl.org/zoneinfo/Europe/London
X-LIC-LOCATION:Europe/London
BEGIN:DAYLIGHT
TZOFFSETFROM:+0000
TZOFFSETTO:+0100
TZNAME:BST
DTSTART:20250330T020000Z
RRULE:FREQ=YEARLY;BYMONTH=3;BYDAY=-1SU
END:DAYLIGHT
BEGIN:STANDARD
TZOFFSETFROM:+0100
TZOFFSETTO:+0000
TZNAME:GMT
DTSTART:20251026T020000Z
RRULE:FREQ=YEARLY;BYMONTH=10;BYDAY=-1SU
END:STANDARD
END:VTIMEZONE
BEGIN:VEVENT
SUMMARY:Geneva Watch Days
DTSTAMP:20250731T170236Z
SEQUENCE:0
UID:11-1-b62e6a1b3bb0869db905be7a9a0ba06d@zegarkiclub.pl
ORGANIZER;CN="Wacor":administrator@zegarkiclub.pl
DESCRIPTION:\n	Geneva Watch Days to wydarzenie jedyne w swoim rodzaju. W
	 ciągu 4 dni Genewa zamieni się w centrum wystawiennicze\, a zegarki b
	ędą prezentowane w różnych lokalizacjach miasta. To wyjątkowa okazja\
	, aby z bliska i w przyjaznej atmosferze zapoznać się z zegarkowymi now
	ościami\, uczestniczyć w panelach dyskusyjnych i w innych towarzyszącyc
	h wydarzeniach. \n\n\n\n	Więcej na stronie: https://gva-watch-days.com\
	n\n
DTSTART;VALUE=DATE:20250904
DTEND;VALUE=DATE:20250908
END:VEVENT
END:VCALENDAR
