BEGIN:VCALENDAR
VERSION:2.0
PRODID:-//IP.Board Calendar 4.4.10//EN
METHOD:PUBLISH
CALSCALE:GREGORIAN
X-WR-CALNAME:Kalendarz forum
BEGIN:VTIMEZONE
TZID:Europe/London
TZURL:http://tzurl.org/zoneinfo/Europe/London
X-LIC-LOCATION:Europe/London
BEGIN:DAYLIGHT
TZOFFSETFROM:+0000
TZOFFSETTO:+0100
TZNAME:BST
DTSTART:20250330T020000Z
RRULE:FREQ=YEARLY;BYMONTH=3;BYDAY=-1SU
END:DAYLIGHT
BEGIN:STANDARD
TZOFFSETFROM:+0100
TZOFFSETTO:+0000
TZNAME:GMT
DTSTART:20251026T020000Z
RRULE:FREQ=YEARLY;BYMONTH=10;BYDAY=-1SU
END:STANDARD
END:VTIMEZONE
BEGIN:VEVENT
SUMMARY:World Time UK
DTSTAMP:20250731T171959Z
SEQUENCE:0
UID:13-1-b62e6a1b3bb0869db905be7a9a0ba06d@zegarkiclub.pl
ORGANIZER;CN="Wacor":administrator@zegarkiclub.pl
DESCRIPTION:\n	World Time UK to wydarzenie\, które swoje początki ma w
	 grupie facebookowej Diver’s Watches. Podczas tego ekskluzywnego wydarze
	nia prezentowane są m.in limitowane edycje i luksusowe  modele zegarkó
	w.\n\n\n\n	Więcej na stronie wydarzenia: http://www.worldtimeuk.com\n\n
DTSTART:20250927T120000Z
DTEND:20250927T170000Z
END:VEVENT
END:VCALENDAR
